BEGIN:VCALENDAR
VERSION:2.0
PRODID:-//wp-events-plugin.com//7.2.3.1//EN
TZID:America/New_York
X-WR-TIMEZONE:America/New_York
BEGIN:VEVENT
UID:4188@ahavatachim.org
DTSTART;TZID=America/New_York:20220815T203000
DTEND;TZID=America/New_York:20220815T203000
DTSTAMP:20220804T150249Z
URL:https://www.ahavatachim.org/events/11478/
SUMMARY:AA Goes Bowling
DESCRIPTION:Come join us for a fun filled evening of bowling at this&nbsp\;
 adults only event&nbsp\;on Monday\, August 15th at 8:30pm.&nbsp\;&nbsp\;\n
 RSVP by 8/10!&nbsp\; $26 per participant\n&nbsp\;
ATTACH;FMTTYPE=image/jpeg:https://www.ahavatachim.org/wp-content/uploads/2
 022/08/AA-Goes-Bowling.png
CATEGORIES:Featured,Shul Events
END:VEVENT
BEGIN:VTIMEZONE
TZID:America/New_York
X-LIC-LOCATION:America/New_York
BEGIN:DAYLIGHT
DTSTART:20220313T030000
TZOFFSETFROM:-0500
TZOFFSETTO:-0400
TZNAME:EDT
END:DAYLIGHT
END:VTIMEZONE
END:VCALENDAR