BEGIN:VCALENDAR
VERSION:2.0
PRODID:-//wp-events-plugin.com//7.2.3.1//EN
TZID:America/New_York
X-WR-TIMEZONE:America/New_York
BEGIN:VEVENT
UID:3853@ahavatachim.org
DTSTART;TZID=America/New_York;VALUE=DATE:20210317
DTEND;TZID=America/New_York;VALUE=DATE:20210318
DTSTAMP:20210323T095852Z
URL:https://www.ahavatachim.org/events/6412/
SUMMARY:Family Haggadah Project
DESCRIPTION:We invite you to contribute to the Ahavat Achim Family Haggadah
  Project!&nbsp\;\nAs a tribute to our diverse family shul\, we are compili
 ng a special Haggadah booklet that will contain traditions\, recipes\, pho
 tographs\, songs\, words of Torah\, youth artwork\, and more....all writte
 n and submitted by you! This intergenerational project will add a special 
 element to all of our seders as the booklet will be available to use at ea
 ch of your family meals! Children\, teens\, and adults are all welcome and
  encouraged to contribute! If you have something to add outside of these c
 ategories\, feel free! We'll find a place for every contribution.&nbsp\;\n
 Please send all submissions to kira.batist.msw@gmail.com by March 17th\, 2
 021.
ATTACH;FMTTYPE=image/jpeg:https://www.ahavatachim.org/wp-content/uploads/2
 021/03/AA-Family-Haggadah-Project.png
CATEGORIES:Featured,Shul Events,Youth Programs
END:VEVENT
BEGIN:VTIMEZONE
TZID:America/New_York
X-LIC-LOCATION:America/New_York
BEGIN:DAYLIGHT
DTSTART:20210314T030000
TZOFFSETFROM:-0500
TZOFFSETTO:-0400
TZNAME:EDT
END:DAYLIGHT
END:VTIMEZONE
END:VCALENDAR