BEGIN:VCALENDAR
VERSION:2.0
PRODID:-//wp-events-plugin.com//7.2.3.1//EN
TZID:America/New_York
X-WR-TIMEZONE:America/New_York
BEGIN:VEVENT
UID:3856@ahavatachim.org
DTSTART;TZID=America/New_York;VALUE=DATE:20210326
DTEND;TZID=America/New_York;VALUE=DATE:20210327
DTSTAMP:20210307T193608Z
URL:https://www.ahavatachim.org/events/6416/
SUMMARY:Pesach Wine Exchange
DESCRIPTION:Don’t forget to RSVP for our Wine Exchange!&nbsp\; Let’s be
  together in spirit this Pesach!&nbsp\;&nbsp\;\n\n\n 	\nDeadline: 3/21\n\n
  	\nExchange: 3/26\n\n 	\nSign Up: https://forms.gle/oUpoY65nNAkYCBas8\n\n
ATTACH;FMTTYPE=image/jpeg:https://www.ahavatachim.org/wp-content/uploads/2
 021/03/Pesach-Wine-Exchange.png
CATEGORIES:Featured,Shul Events
END:VEVENT
BEGIN:VTIMEZONE
TZID:America/New_York
X-LIC-LOCATION:America/New_York
BEGIN:DAYLIGHT
DTSTART:20210314T030000
TZOFFSETFROM:-0500
TZOFFSETTO:-0400
TZNAME:EDT
END:DAYLIGHT
END:VTIMEZONE
END:VCALENDAR