BEGIN:VCALENDAR
VERSION:2.0
PRODID:-//wp-events-plugin.com//7.2.3.1//EN
TZID:America/New_York
X-WR-TIMEZONE:America/New_York
BEGIN:VEVENT
UID:3947@ahavatachim.org
DTSTART;TZID=America/New_York;VALUE=DATE:20210509
DTEND;TZID=America/New_York;VALUE=DATE:20210510
DTSTAMP:20210402T014236Z
URL:https://www.ahavatachim.org/events/6640/
SUMMARY:One Step Closer
DESCRIPTION:It's 5\,690 miles from Fair Lawn to Jerusalem.&nbsp\; Join the 
 community as we make the trek there in the One Step Closer program! Betwee
 n now and Yom Yerushalayim\, we will collectively complete the journey to 
 Jerusalem!&nbsp\; Walk\, jog\, bike\, run or travel in any other active fo
 rm and help us make it home by May 9th! &nbsp\;Log your miles here.&nbsp\;
  Anyone can participate\, there are no minimum mileage requirements and yo
 u can travel your miles in any active form!&nbsp\; Log your miles when it'
 s easiest for you (although we recommend at least once a week). We will be
  tracking the miles on a weekly basis and sharing each week’s leaderboar
 ds so you can be connected to everyone else who is participating.&nbsp\;&n
 bsp\;
ATTACH;FMTTYPE=image/jpeg:https://www.ahavatachim.org/wp-content/uploads/2
 021/04/AA-One-Step-Closer-Flyer-pdf.jpg
CATEGORIES:Featured,Shul Events
END:VEVENT
BEGIN:VTIMEZONE
TZID:America/New_York
X-LIC-LOCATION:America/New_York
BEGIN:DAYLIGHT
DTSTART:20210314T030000
TZOFFSETFROM:-0500
TZOFFSETTO:-0400
TZNAME:EDT
END:DAYLIGHT
END:VTIMEZONE
END:VCALENDAR