BEGIN:VCALENDAR
VERSION:2.0
PRODID:-//wp-events-plugin.com//7.2.3.1//EN
TZID:America/New_York
X-WR-TIMEZONE:America/New_York
BEGIN:VEVENT
UID:4070@ahavatachim.org
DTSTART;TZID=America/New_York:20210919T000000
DTEND;TZID=America/New_York:20210919T000000
DTSTAMP:20210827T183813Z
URL:https://www.ahavatachim.org/events/7525/
SUMMARY:Arbat Haminim Sale
DESCRIPTION:To pre-order your Arbat Haminim\, click on:&nbsp\;https://www.b
 neiakiva.org/mifalahavat/&nbsp\;and complete the online form by&nbsp\;Frid
 ay\, September 17 at 12:00 noon.&nbsp\; Curbside pickup is scheduled for S
 unday\, September 19 from 9:00am until 10:30am in the Shul parking lot. Bn
 ei Akiva will&nbsp\;have a table with all the pre-orders. All you have to 
 do is just "grab and go". Lulavim will be pre-tied and Etrogim will be lab
 eled and set aside.\nClick on image to view\n\n&nbsp\;
ATTACH;FMTTYPE=image/jpeg:https://www.ahavatachim.org/wp-content/uploads/2
 021/08/Arbat_Haminim_Sale-11-1-1-scaled.jpg
CATEGORIES:Limited Series,Upcoming Events
END:VEVENT
BEGIN:VTIMEZONE
TZID:America/New_York
X-LIC-LOCATION:America/New_York
BEGIN:DAYLIGHT
DTSTART:20210314T030000
TZOFFSETFROM:-0500
TZOFFSETTO:-0400
TZNAME:EDT
END:DAYLIGHT
END:VTIMEZONE
END:VCALENDAR