BEGIN:VCALENDAR
VERSION:2.0
PRODID:-//wp-events-plugin.com//7.2.3.1//EN
TZID:America/New_York
X-WR-TIMEZONE:America/New_York
BEGIN:VEVENT
UID:4144@ahavatachim.org
DTSTART;TZID=America/New_York:20211231T162500
DTEND;TZID=America/New_York:20211231T162500
DTSTAMP:20211212T124553Z
URL:https://www.ahavatachim.org/events/7772/
SUMMARY:New Year's Eve Shabbat Dinner
DESCRIPTION:Join us for New Year's Eve Shabbat Dinner RSVP\nClick on image 
 to view\n\n\n&nbsp\;
ATTACH;FMTTYPE=image/jpeg:https://www.ahavatachim.org/wp-content/uploads/2
 021/12/newYearsEve2021.png
CATEGORIES:Featured,Shul Events
END:VEVENT
BEGIN:VTIMEZONE
TZID:America/New_York
X-LIC-LOCATION:America/New_York
BEGIN:STANDARD
DTSTART:20211107T010000
TZOFFSETFROM:-0400
TZOFFSETTO:-0500
TZNAME:EST
END:STANDARD
END:VTIMEZONE
END:VCALENDAR