BEGIN:VCALENDAR
VERSION:2.0
PRODID:-//wp-events-plugin.com//7.2.3.1//EN
TZID:America/New_York
X-WR-TIMEZONE:America/New_York
BEGIN:VEVENT
UID:4166@ahavatachim.org
DTSTART;TZID=America/New_York:20220522T170000
DTEND;TZID=America/New_York:20220522T170000
DTSTAMP:20220523T010855Z
URL:https://www.ahavatachim.org/events/7928/
SUMMARY:2022 Ad Journal
DESCRIPTION:2022 Journal Dinner Honoring Joanne and Stuart Oppenheim\n\n[pd
 f-embedder url="https://www.ahavatachim.org/wp-content/uploads/2022/03/202
 2-Journal-Final.pdf"]\n\n&nbsp\;
ATTACH;FMTTYPE=image/jpeg:https://www.ahavatachim.org/wp-content/uploads/2
 022/03/Screen-Shot-2022-03-27-at-5.07.01-AM.png
CATEGORIES:Featured,Shul Events
END:VEVENT
BEGIN:VTIMEZONE
TZID:America/New_York
X-LIC-LOCATION:America/New_York
BEGIN:DAYLIGHT
DTSTART:20220313T030000
TZOFFSETFROM:-0500
TZOFFSETTO:-0400
TZNAME:EDT
END:DAYLIGHT
END:VTIMEZONE
END:VCALENDAR