BEGIN:VCALENDAR
VERSION:2.0
PRODID:-//wp-events-plugin.com//7.2.3.1//EN
TZID:America/New_York
X-WR-TIMEZONE:America/New_York
BEGIN:VEVENT
UID:4025@ahavatachim.org
DTSTART;TZID=America/New_York:20210613T200000
DTEND;TZID=America/New_York:20210613T210000
DTSTAMP:20210611T211556Z
URL:https://www.ahavatachim.org/events/a-night-of-fitness-and-fun/
SUMMARY:Fitness and Fun
DESCRIPTION:Click to enlarge\n\n
ATTACH;FMTTYPE=image/jpeg:https://www.ahavatachim.org/wp-content/uploads/2
 021/06/Screen-Shot-2021-06-11-at-5.10.00-PM.png
CATEGORIES:Featured,Shul Events
END:VEVENT
BEGIN:VTIMEZONE
TZID:America/New_York
X-LIC-LOCATION:America/New_York
BEGIN:DAYLIGHT
DTSTART:20210314T030000
TZOFFSETFROM:-0500
TZOFFSETTO:-0400
TZNAME:EDT
END:DAYLIGHT
END:VTIMEZONE
END:VCALENDAR