BEGIN:VCALENDAR
VERSION:2.0
PRODID:-//wp-events-plugin.com//7.2.3.1//EN
TZID:America/New_York
X-WR-TIMEZONE:America/New_York
BEGIN:VEVENT
UID:4299@ahavatachim.org
DTSTART;TZID=America/New_York:20230111T200000
DTEND;TZID=America/New_York:20230111T200000
DTSTAMP:20221229T195034Z
URL:https://www.ahavatachim.org/events/aa-goes-bowling/
SUMMARY:AA Goes Bowling
DESCRIPTION:RSVP here: https://forms.gle/5EuSawGTDjufaB7N9
ATTACH;FMTTYPE=image/jpeg:https://www.ahavatachim.org/wp-content/uploads/2
 022/12/AA-Goes-Bowling-Jan-11.png
CATEGORIES:Featured,Shul Events
END:VEVENT
BEGIN:VTIMEZONE
TZID:America/New_York
X-LIC-LOCATION:America/New_York
BEGIN:STANDARD
DTSTART:20221106T010000
TZOFFSETFROM:-0400
TZOFFSETTO:-0500
TZNAME:EST
END:STANDARD
END:VTIMEZONE
END:VCALENDAR