BEGIN:VCALENDAR
VERSION:2.0
PRODID:-//wp-events-plugin.com//7.2.3.1//EN
TZID:America/New_York
X-WR-TIMEZONE:America/New_York
BEGIN:VEVENT
UID:4617@ahavatachim.org
DTSTART;TZID=America/New_York:20230204T200000
DTEND;TZID=America/New_York:20230204T200000
DTSTAMP:20230119T110636Z
URL:https://www.ahavatachim.org/events/adult-game-night/
SUMMARY:Adult Game Night
DESCRIPTION:Link to Sponsor/Sign Up:&nbsp\;&nbsp\;https://forms.gle/k2iCrDs
 5db6QkV2u7
ATTACH;FMTTYPE=image/jpeg:https://www.ahavatachim.org/wp-content/uploads/2
 023/01/AA-Adult-Game-Night.png
CATEGORIES:Featured,Shul Events
END:VEVENT
BEGIN:VTIMEZONE
TZID:America/New_York
X-LIC-LOCATION:America/New_York
BEGIN:STANDARD
DTSTART:20221106T010000
TZOFFSETFROM:-0400
TZOFFSETTO:-0500
TZNAME:EST
END:STANDARD
END:VTIMEZONE
END:VCALENDAR