BEGIN:VCALENDAR
VERSION:2.0
PRODID:-//wp-events-plugin.com//7.2.3.1//EN
TZID:America/New_York
X-WR-TIMEZONE:America/New_York
BEGIN:VEVENT
UID:4619@ahavatachim.org
DTSTART;TZID=America/New_York:20230219T123000
DTEND;TZID=America/New_York:20230219T123000
DTSTAMP:20230129T224130Z
URL:https://www.ahavatachim.org/events/afternoon-at-yu/
SUMMARY:Afternoon at YU
DESCRIPTION:Email events@ahavatachim.org to signup!
ATTACH;FMTTYPE=image/jpeg:https://www.ahavatachim.org/wp-content/uploads/2
 023/01/AA-YU-Seforim-Sale.png
CATEGORIES:Featured,Shul Events
END:VEVENT
BEGIN:VTIMEZONE
TZID:America/New_York
X-LIC-LOCATION:America/New_York
BEGIN:STANDARD
DTSTART:20221106T010000
TZOFFSETFROM:-0400
TZOFFSETTO:-0500
TZNAME:EST
END:STANDARD
END:VTIMEZONE
END:VCALENDAR