BEGIN:VCALENDAR
VERSION:2.0
PRODID:-//wp-events-plugin.com//7.2.3.1//EN
TZID:America/New_York
X-WR-TIMEZONE:America/New_York
BEGIN:VEVENT
UID:4704@ahavatachim.org
DTSTART;TZID=America/New_York:20240210T193000
DTEND;TZID=America/New_York:20240210T193000
DTSTAMP:20240119T024229Z
URL:https://www.ahavatachim.org/events/ahavat-achim-goes-bowling/
SUMMARY:Ahavat Achim Goes Bowling
DESCRIPTION:Click to RSVP
ATTACH;FMTTYPE=image/jpeg:https://www.ahavatachim.org/wp-content/uploads/2
 023/12/AA-Goes-Bowling-02.2024-pdf.jpg
CATEGORIES:Featured,Shul Events
END:VEVENT
BEGIN:VTIMEZONE
TZID:America/New_York
X-LIC-LOCATION:America/New_York
BEGIN:STANDARD
DTSTART:20231105T010000
TZOFFSETFROM:-0400
TZOFFSETTO:-0500
TZNAME:EST
END:STANDARD
END:VTIMEZONE
END:VCALENDAR