BEGIN:VCALENDAR
VERSION:2.0
PRODID:-//wp-events-plugin.com//7.2.3.1//EN
TZID:America/New_York
X-WR-TIMEZONE:America/New_York
BEGIN:VEVENT
UID:3752@ahavatachim.org
DTSTART;TZID=America/New_York:20201127T090000
DTEND;TZID=America/New_York:20201127T100000
DTSTAMP:20201120T170613Z
URL:https://www.ahavatachim.org/events/an-americana-series-exploring-one-n
 ation-under-god-through-the-lens-of-judaism/
SUMMARY:AN AMERICANA SERIES - EXPLORING "ONE NATION UNDER GOD" THROUGH THE 
 LENS OF JUDAISM
DESCRIPTION:The first class in the series will be on Friday\, November 27 a
 t 9:00 am\n\nThanksgiving: It's not Just for Thursdays in November - prese
 nted by Rabbi Richard Mayer\n\nhttps://zoom.us/j/7291311899\n&nbsp\;&nbsp\
 ; Password: 112233
ATTACH;FMTTYPE=image/jpeg:https://www.ahavatachim.org/wp-content/uploads/2
 020/11/AA-Americana-series-Overall.jpg
END:VEVENT
BEGIN:VTIMEZONE
TZID:America/New_York
X-LIC-LOCATION:America/New_York
BEGIN:STANDARD
DTSTART:20201101T010000
TZOFFSETFROM:-0400
TZOFFSETTO:-0500
TZNAME:EST
END:STANDARD
END:VTIMEZONE
END:VCALENDAR