BEGIN:VCALENDAR
VERSION:2.0
PRODID:-//wp-events-plugin.com//7.2.3.1//EN
TZID:America/New_York
X-WR-TIMEZONE:America/New_York
BEGIN:VEVENT
UID:4003@ahavatachim.org
DTSTART;TZID=America/New_York:20210622T204500
DTEND;TZID=America/New_York:20210622T204500
DTSTAMP:20210603T144654Z
URL:https://www.ahavatachim.org/events/annual-general-membership-meeting-2
 /
SUMMARY:Annual General Membership Meeting
DESCRIPTION:Click here to join meeting\n\n[pdf-embedder url="https://www.ah
 avatachim.org/wp-content/uploads/2021/06/AA-General-Membership-Meeting-Not
 ice-and-Agenda-June-2021.pdf"]\n\n2021-2022 Slate of Officers and Trustees
 \n\nProposed Amendments to the Constitution
ATTACH;FMTTYPE=image/jpeg:https://www.ahavatachim.org/wp-content/uploads/2
 021/03/AA-Logo1600-1.jpg
CATEGORIES:Featured,Shul Events
END:VEVENT
BEGIN:VTIMEZONE
TZID:America/New_York
X-LIC-LOCATION:America/New_York
BEGIN:DAYLIGHT
DTSTART:20210314T030000
TZOFFSETFROM:-0500
TZOFFSETTO:-0400
TZNAME:EDT
END:DAYLIGHT
END:VTIMEZONE
END:VCALENDAR