BEGIN:VCALENDAR
VERSION:2.0
PRODID:-//wp-events-plugin.com//7.2.3.1//EN
TZID:America/New_York
X-WR-TIMEZONE:America/New_York
BEGIN:VEVENT
UID:2175@ahavatachim.org
DTSTART;TZID=America/New_York:20200511T211500
DTEND;TZID=America/New_York:20200511T223000
DTSTAMP:20200506T210114Z
URL:https://www.ahavatachim.org/events/aryeh-kunstler-lag-bomer-zoom-conce
 rt/
SUMMARY:Aryeh Kunstler Lag B'Omer Zoom Concert
DESCRIPTION:[pdf-embedder url="https://www.ahavatachim.org/wp-content/uploa
 ds/2020/05/Aryeh-Kunstler-Lag-Baomer-concert.pdf"]
ATTACH;FMTTYPE=image/jpeg:https://www.ahavatachim.org/wp-content/uploads/2
 020/05/AK.jpg
CATEGORIES:Shul Events
END:VEVENT
BEGIN:VTIMEZONE
TZID:America/New_York
X-LIC-LOCATION:America/New_York
BEGIN:DAYLIGHT
DTSTART:20200308T030000
TZOFFSETFROM:-0500
TZOFFSETTO:-0400
TZNAME:EDT
END:DAYLIGHT
END:VTIMEZONE
END:VCALENDAR