BEGIN:VCALENDAR
VERSION:2.0
PRODID:-//wp-events-plugin.com//7.2.3.1//EN
TZID:America/New_York
X-WR-TIMEZONE:America/New_York
BEGIN:VEVENT
UID:4120@ahavatachim.org
DTSTART;TZID=America/New_York:20211031T153000
DTEND;TZID=America/New_York:20211031T173000
DTSTAMP:20211015T020454Z
URL:https://www.ahavatachim.org/events/back-to-shul-bbq/
SUMMARY:Back to Shul BBQ
DESCRIPTION:Event: Back to Shul BBQ\nDate: 10/31 at 3:30pm\nRSVP by: 10/28\
 nLink to Sign Up:&nbsp\;&nbsp\;https://docs.google.com/forms/d/e/1FAIpQLSd
 S8MzUU8LH6AWZlkppD8WsfXIBRNt1C5Zud4_PZ_6EPS6Iyw/viewform&nbsp\;\n[pdf-embe
 dder url="https://www.ahavatachim.org/wp-content/uploads/2021/10/Back-to-S
 hul-BBQ-rev-Green.pdf"]
ATTACH;FMTTYPE=image/jpeg:https://www.ahavatachim.org/wp-content/uploads/2
 021/10/Back-to-Shul-BBQ-rev-Green-1-pdf.jpg
CATEGORIES:Featured,Shul Events
END:VEVENT
BEGIN:VTIMEZONE
TZID:America/New_York
X-LIC-LOCATION:America/New_York
BEGIN:DAYLIGHT
DTSTART:20210314T030000
TZOFFSETFROM:-0500
TZOFFSETTO:-0400
TZNAME:EDT
END:DAYLIGHT
END:VTIMEZONE
END:VCALENDAR