BEGIN:VCALENDAR
VERSION:2.0
PRODID:-//wp-events-plugin.com//7.2.3.1//EN
TZID:America/New_York
X-WR-TIMEZONE:America/New_York
BEGIN:VEVENT
UID:3845@ahavatachim.org
DTSTART;TZID=America/New_York;VALUE=DATE:20210207
DTEND;TZID=America/New_York;VALUE=DATE:20210208
DTSTAMP:20210126T191422Z
URL:https://www.ahavatachim.org/events/beer-exchange/
SUMMARY:Beer Exchange
DESCRIPTION:We are continuing our food train\, but this time with a twist i
 n honor of the Super Bowl!\n&nbsp\;\nIf you are interested\, please&nbsp\;
 sign up&nbsp\;to exchange&nbsp\;half a pack of locally brewed&nbsp\;beer w
 ith a friend and then exchange your thoughts and opinions on the beer via 
 your preferred mode of communication (phone\, Zoom\, text message\, WhatsA
 pp\, Signal\, etc.) during the game.&nbsp\; (If you need inspiration for l
 ocally brewed beers\, Bottle King near the shul has a huge selection!)\n&n
 bsp\;\nWe may not have a local team in the game\, but we can still have fu
 n finding new brewery options!&nbsp\;&nbsp\;
ATTACH;FMTTYPE=image/jpeg:https://www.ahavatachim.org/wp-content/uploads/2
 021/01/AA-Beer-Exchange.png
CATEGORIES:Featured,Shul Events
END:VEVENT
BEGIN:VTIMEZONE
TZID:America/New_York
X-LIC-LOCATION:America/New_York
BEGIN:STANDARD
DTSTART:20201101T010000
TZOFFSETFROM:-0400
TZOFFSETTO:-0500
TZNAME:EST
END:STANDARD
END:VTIMEZONE
END:VCALENDAR