BEGIN:VCALENDAR
VERSION:2.0
PRODID:-//wp-events-plugin.com//7.2.3.1//EN
TZID:America/New_York
X-WR-TIMEZONE:America/New_York
BEGIN:VEVENT
UID:4690@ahavatachim.org
DTSTART;TZID=America/New_York:20231013T180000
DTEND;TZID=America/New_York:20231013T180000
DTSTAMP:20230914T193327Z
URL:https://www.ahavatachim.org/events/bereshit-bbq/
SUMMARY:Bereshit BBQ
DESCRIPTION:Link to sign up: https://forms.gle/DFRiVB1w2sU8ZmJBA&nbsp\;
ATTACH;FMTTYPE=image/jpeg:https://www.ahavatachim.org/wp-content/uploads/2
 023/09/Bereshit-BBQ-2023-pdf.jpg
CATEGORIES:Featured,Shul Events
END:VEVENT
BEGIN:VTIMEZONE
TZID:America/New_York
X-LIC-LOCATION:America/New_York
BEGIN:DAYLIGHT
DTSTART:20230312T030000
TZOFFSETFROM:-0500
TZOFFSETTO:-0400
TZNAME:EDT
END:DAYLIGHT
END:VTIMEZONE
END:VCALENDAR