BEGIN:VCALENDAR
VERSION:2.0
PRODID:-//wp-events-plugin.com//7.2.3.1//EN
TZID:America/New_York
X-WR-TIMEZONE:America/New_York
BEGIN:VEVENT
UID:3803@ahavatachim.org
DTSTART;TZID=America/New_York:20210102T200000
DTEND;TZID=America/New_York:20210102T203000
DTSTAMP:20201229T225845Z
URL:https://www.ahavatachim.org/events/bring-your-own-craft/
SUMMARY:Bring Your Own Craft
DESCRIPTION:Teen girls are invited to a Bring Your Own Craft (and Cocoa!) z
 oom event on Saturday\, January 2nd at 8 PM!&nbsp\;\n&nbsp\;\nCome with a 
 craft and drink of your choosing.&nbsp\;Hang out with your friends online 
 and let your creative juices flow!\n&nbsp\;\nRSVP to&nbsp\;kira.batist.msw
 @gmail.com&nbsp\;by December 31st for the zoom link.&nbsp\;
ATTACH;FMTTYPE=image/jpeg:https://www.ahavatachim.org/wp-content/uploads/2
 020/12/TeenCraftEvent-1.jpeg
CATEGORIES:Featured,Youth Programs
END:VEVENT
BEGIN:VTIMEZONE
TZID:America/New_York
X-LIC-LOCATION:America/New_York
BEGIN:STANDARD
DTSTART:20201101T010000
TZOFFSETFROM:-0400
TZOFFSETTO:-0500
TZNAME:EST
END:STANDARD
END:VTIMEZONE
END:VCALENDAR