BEGIN:VCALENDAR
VERSION:2.0
PRODID:-//wp-events-plugin.com//7.2.3.1//EN
TZID:America/New_York
X-WR-TIMEZONE:America/New_York
BEGIN:VEVENT
UID:4807@ahavatachim.org
DTSTART;TZID=America/New_York:20240830T180000
DTEND;TZID=America/New_York:20240830T180000
DTSTAMP:20240822T130218Z
URL:https://www.ahavatachim.org/events/camp-shabbat/
SUMMARY:Camp Shabbat - RSVP for Dinner
DESCRIPTION:RSVP for Dinner\nAhavat Achim is bringing that SUPER FUN "camp 
 feeling" to shul on&nbsp\;Friday\, August 30 &amp\; Saturday\, August 31st
 !&nbsp\;&nbsp\;\nFrom a Shabbat-A-Grams\, musical Kabbalat Shabbat (which 
 will be outside\, weather dependent!)\, free community Shabbat dinner with
  friends\, ruach\, and the traditional "Kool-Aid"\, breakout learning afte
 r Kiddush luncheon\, board games before mincha to a singing seudah shlishi
 t\, we are bringing that "camp feeling" to Fair Lawn!&nbsp\;&nbsp\;\nFAQ:&
 nbsp\;\n\n\n 	Who is this event for?&nbsp\;&nbsp\;&nbsp\;&nbsp\;\n\n 	Ever
 yone in the community\, ages 0-120 years old!\n\n\n 	Do I have to come for
  the entire Shabbaton?&nbsp\;\n\n 	No\, feel free to pick and choose what 
 you want to come for!\n\n\n\nSchedule:&nbsp\;\n\n\n 	Shabbat-a-grams - pri
 nt and give to your family &amp\; friends before Shabbat or at shul (see a
 ttached)\n\n 	Virtual Shabbat-a-grams - have your Shabbat-a-gram delivered
 &nbsp\;via email using this link!&nbsp\;&nbsp\;\n\n\n 	Mincha - 7:15pm\n 	
 Musical Kabbalat&nbsp\; - 7:30pm\n 	FREE Shabbat Dinner&nbsp\;(please RSVP
  here by 8/25!)&nbsp\;- 8:00pm\n 	Ruach filled Shacharit - 9:00am\n 	Kriya
 t HaTorah with interactive trivia ~ 9:45am\n 	Mifkad style announcements w
 ith rosh tzevet &amp\; rosh kehilah ~ 11:10am\n 	Camp-style Full Kiddush L
 uncheon - 11:15am\n 	Breakout learning sessions after kiddush\n 	Shabbat w
 alks to visit community members - 4:00pm (departing from shul)\n 	Pre-Minc
 ha Board Games &amp\; Snacks - 5:30pm - 6:45pm\n 	Pre-Mincha Shiur (with g
 uest speaker) - 6:00pm - 6:45pm\n 	Mincha - 6:45pm\n 	Singing Seudah Shlis
 hit ~ 7:00pm\n 	Maariv &amp\; Havdalah - 8:15pm\n 	Melava Malka &amp\; Fir
 epit - 8:45pm (at Jacob house)\n\nFor the schedule in "camp time"\, please
  reach out to the Programming committee!&nbsp\; \nLet us know if you'd lik
 e to get involved in setting up ahead of time\, running game or as a couns
 elor for Shabbat walks!\nDONATE TO HELP MAKE THIS CAMP STYLE SHABBATON A R
 EALITY!
ATTACH;FMTTYPE=image/jpeg:https://www.ahavatachim.org/wp-content/uploads/2
 024/08/Screenshot-2024-08-16-at-12.19.31 PM.png
CATEGORIES:Featured,Youth Programs
END:VEVENT
BEGIN:VTIMEZONE
TZID:America/New_York
X-LIC-LOCATION:America/New_York
BEGIN:DAYLIGHT
DTSTART:20240310T030000
TZOFFSETFROM:-0500
TZOFFSETTO:-0400
TZNAME:EDT
END:DAYLIGHT
END:VTIMEZONE
END:VCALENDAR