BEGIN:VCALENDAR
VERSION:2.0
PRODID:-//wp-events-plugin.com//7.2.3.1//EN
TZID:America/New_York
X-WR-TIMEZONE:America/New_York
BEGIN:VEVENT
UID:4183@ahavatachim.org
DTSTART;TZID=America/New_York:20220725T235900
DTEND;TZID=America/New_York:20220725T235900
DTSTAMP:20221229T030259Z
URL:https://www.ahavatachim.org/events/cards-for-troops/
SUMMARY:Cards For Troops
DESCRIPTION:Join us in pressing gratitude to our troops\, with special than
 ks to our AA family member\, Seth Brooks!\nSubmit your cards to&nbsp\;yout
 h@ahavatachim.org by 7/25 so we can get these to him before Rosh hashanah!
 \nSee email attachments for sample cards or make your&nbsp\;own!
ATTACH;FMTTYPE=image/jpeg:https://www.ahavatachim.org/wp-content/uploads/2
 022/07/CardsforTroops-pdf.jpg
CATEGORIES:Featured,Youth Programs
END:VEVENT
BEGIN:VTIMEZONE
TZID:America/New_York
X-LIC-LOCATION:America/New_York
BEGIN:DAYLIGHT
DTSTART:20220313T030000
TZOFFSETFROM:-0500
TZOFFSETTO:-0400
TZNAME:EDT
END:DAYLIGHT
END:VTIMEZONE
END:VCALENDAR