BEGIN:VCALENDAR
VERSION:2.0
PRODID:-//wp-events-plugin.com//7.2.3.1//EN
TZID:America/New_York
X-WR-TIMEZONE:America/New_York
BEGIN:VEVENT
UID:3857@ahavatachim.org
DTSTART;TZID=America/New_York;VALUE=DATE:20210409
DTEND;TZID=America/New_York;VALUE=DATE:20210410
DTSTAMP:20210311T020015Z
URL:https://www.ahavatachim.org/events/challah-exchange/
SUMMARY:Challah Exchange
DESCRIPTION:With Pesach almost in the rearview mirror\, it’s time to toas
 t our friendship\, and how we rise together\, with a challah exchange!&nbs
 p\; Don’t forget to RSVP!\n\n\n 	\nDeadline: 4/5\n\n 	\nExchange: 4/9\n\
 n 	\nSign Up: https://forms.gle/xgUFuc2Y6iBWvHYG7\n\n
ATTACH;FMTTYPE=image/jpeg:https://www.ahavatachim.org/wp-content/uploads/2
 021/03/Challah-Exchange.png
CATEGORIES:Featured,Shul Events
END:VEVENT
BEGIN:VTIMEZONE
TZID:America/New_York
X-LIC-LOCATION:America/New_York
BEGIN:DAYLIGHT
DTSTART:20210314T030000
TZOFFSETFROM:-0500
TZOFFSETTO:-0400
TZNAME:EDT
END:DAYLIGHT
END:VTIMEZONE
END:VCALENDAR