BEGIN:VCALENDAR
VERSION:2.0
PRODID:-//wp-events-plugin.com//7.2.3.1//EN
TZID:America/New_York
X-WR-TIMEZONE:America/New_York
BEGIN:VEVENT
UID:3756@ahavatachim.org
DTSTART;TZID=America/New_York:20201213T110000
DTEND;TZID=America/New_York:20201213T120000
DTSTAMP:20201130T031429Z
URL:https://www.ahavatachim.org/events/chanukah-drive-through-carnival/
SUMMARY:Chanukah Drive-Through Carnival
DESCRIPTION:We are excited to announce that we will be having a Chanukah dr
 ive-through carnival on December 13th at 11 AM. \nThere will be a bean bag
  and ring toss\, art project\, dreidel spin\, photo booth\, giveaways and 
 more! \nPlease RSVP to kira.batist.msw@gmail.com by December 9th in order 
 to obtain the location information!\n\n\n*In order to maintain COVID preca
 utions\, families will pull up at each carnival station one by one\, enjoy
  the activity at that stop and then get back into their cars and move on t
 o the next station. A bag of supplies needed to enjoy the carnival will be
  provided at your first stop so that no sharing of materials takes place. 
 All vehicles must be lined up to begin at 11 AM in order to ensure adequat
 e social distancing.  
ATTACH;FMTTYPE=image/jpeg:https://www.ahavatachim.org/wp-content/uploads/2
 020/11/ChanukahDriveThroughCarnivalW400.jpg
CATEGORIES:Featured,Youth Programs
END:VEVENT
BEGIN:VTIMEZONE
TZID:America/New_York
X-LIC-LOCATION:America/New_York
BEGIN:STANDARD
DTSTART:20201101T010000
TZOFFSETFROM:-0400
TZOFFSETTO:-0500
TZNAME:EST
END:STANDARD
END:VTIMEZONE
END:VCALENDAR