BEGIN:VCALENDAR
VERSION:2.0
PRODID:-//wp-events-plugin.com//7.2.3.1//EN
TZID:America/New_York
X-WR-TIMEZONE:America/New_York
BEGIN:VEVENT
UID:3717@ahavatachim.org
DTSTART;TZID=America/New_York:20201129T130000
DTEND;TZID=America/New_York:20201129T150000
DTSTAMP:20201207T231911Z
URL:https://www.ahavatachim.org/events/chanukah-gift-gogo/
SUMMARY:Chanukah Gift GOGO
DESCRIPTION:[ngg src="galleries" ids="4" display="basic_thumbnail" thumbnai
 l_crop="0"]\nThere’s a chill in the air\, but that means Chanukah’s al
 most here! Let’s celebrate with our second Ahavat Achim youth GOGO event
  - a Give One\, Get One - kinder event!&nbsp\;As with the kinder candy GOG
 O event\, we would love this Chanukah gift GOGO event to provide a persona
 l point of connection between our children during these distant Covid time
 s.&nbsp\;For this event\, we are adding a chesed opportunity to donate a g
 ift to a charity for children in need.\nBergen County gift donation opport
 unity: Annual Bergen County Chanukah Toy Drive\n\nMonday\, Nov 16th to Sun
 day\, Nov 29th.&nbsp\;\nWe are collecting new and unwrapped toys and gifts
  for children and young adults going through trying times. Please drop off
  your donations at Ahavat Achim 18-25 Saddle River Rd.&nbsp\;from now&nbsp
 \;until Sunday\, November 29th.&nbsp\;The Bergen County Toy Drive is a gre
 at collaborative effort across many Bergen County Jewish Schools\, Synagog
 ues and Temples and donates to over 20 different charity organizations. Yo
 ur donations will help us share the excitement of Chanukah with thousands 
 of children and young adults. This is a great opportunity to involve your 
 children in the mitzvah of tzedakah!&nbsp\;\n\n 	Who: Ahavat Achim youth (
 0-6th grade)\n 	What: Chanukah gift GOGO event (no more than $10) and gift
  donation\n 	Where: A Covid-responsible visit coordinated with your kinder
  share assigned buddy\n 	When:&nbsp\;November 29th\; recommended time&nbsp
 \;1-3pm&nbsp\;\n\nDonation drop off&nbsp\;at Ahavat Achim drop box by&nbsp
 \;11/29. If you would like to participate\, please see the flyer below and
  sign up&nbsp\;HERE&nbsp\;by&nbsp\;Sunday\, November 22nd.&nbsp\;If you ha
 ve any questions\, don’t hesitate to reach out to me\, Natasha at&nbsp\;
 nbnadler@gmail.com\n\nLooking forward to a gelt-astic event!\n\nThe Youth 
 Committee
ATTACH;FMTTYPE=image/jpeg:https://www.ahavatachim.org/wp-content/uploads/2
 020/11/ChanukahGoGo-W400x400.jpg
CATEGORIES:Featured,Youth Programs
END:VEVENT
BEGIN:VTIMEZONE
TZID:America/New_York
X-LIC-LOCATION:America/New_York
BEGIN:STANDARD
DTSTART:20201101T010000
TZOFFSETFROM:-0400
TZOFFSETTO:-0500
TZNAME:EST
END:STANDARD
END:VTIMEZONE
END:VCALENDAR