BEGIN:VCALENDAR
VERSION:2.0
PRODID:-//wp-events-plugin.com//7.2.3.1//EN
TZID:America/New_York
X-WR-TIMEZONE:America/New_York
BEGIN:VEVENT
UID:4263@ahavatachim.org
DTSTART;TZID=America/New_York:20221225T110000
DTEND;TZID=America/New_York:20221225T120000
DTSTAMP:20221229T030156Z
URL:https://www.ahavatachim.org/events/chanukah-magic-show/
SUMMARY:Chanukah Magic Show
DESCRIPTION:Chanukah&nbsp\;is right around the corner and we are ready to h
 ave some fun!\n\nJoin us for a fun and exciting Chanukah Magic Show featur
 ing Silly Billy!&nbsp\;\nSunday\, December 25th at 11 AM in the social hal
 l.&nbsp\;\n$12/family with advanced registration\, $16/family at the door.
 \nSee the attached flyer for more details.&nbsp\;\n&nbsp\;\nClick to regis
 ter: Chanukah Magic Show featuring Silly Billy\n&nbsp\;\nWe hope&nbsp\;to 
 see you all there!\nThe Youth Committee
ATTACH;FMTTYPE=image/jpeg:https://www.ahavatachim.org/wp-content/uploads/2
 022/11/SillyBilly-pdf.jpg
CATEGORIES:Featured,Youth Programs
END:VEVENT
BEGIN:VTIMEZONE
TZID:America/New_York
X-LIC-LOCATION:America/New_York
BEGIN:STANDARD
DTSTART:20221106T010000
TZOFFSETFROM:-0400
TZOFFSETTO:-0500
TZNAME:EST
END:STANDARD
END:VTIMEZONE
END:VCALENDAR