BEGIN:VCALENDAR
VERSION:2.0
PRODID:-//wp-events-plugin.com//7.2.3.1//EN
TZID:America/New_York
X-WR-TIMEZONE:America/New_York
BEGIN:VEVENT
UID:4126@ahavatachim.org
DTSTART;TZID=America/New_York:20211204T180000
DTEND;TZID=America/New_York:20211204T180000
DTSTAMP:20211104T001538Z
URL:https://www.ahavatachim.org/events/chanukah-scavenger-hunt/
SUMMARY:Chanukah Scavenger Hunt
DESCRIPTION:Click on image to view:\n
ATTACH;FMTTYPE=image/jpeg:https://www.ahavatachim.org/wp-content/uploads/2
 021/11/Screen-Shot-2021-11-03-at-8.11.38-PM.png
CATEGORIES:Featured,Youth Programs
END:VEVENT
BEGIN:VTIMEZONE
TZID:America/New_York
X-LIC-LOCATION:America/New_York
BEGIN:STANDARD
DTSTART:20211107T010000
TZOFFSETFROM:-0400
TZOFFSETTO:-0500
TZNAME:EST
END:STANDARD
END:VTIMEZONE
END:VCALENDAR