BEGIN:VCALENDAR
VERSION:2.0
PRODID:-//wp-events-plugin.com//7.2.3.1//EN
TZID:America/New_York
X-WR-TIMEZONE:America/New_York
BEGIN:VEVENT
UID:4253@ahavatachim.org
DTSTART;TZID=America/New_York:20221205T000000
DTEND;TZID=America/New_York:20221205T000000
DTSTAMP:20221229T030156Z
URL:https://www.ahavatachim.org/events/chanukah-toy-drive/
SUMMARY:Chanukah Toy Drive
DESCRIPTION:
ATTACH;FMTTYPE=image/jpeg:https://www.ahavatachim.org/wp-content/uploads/2
 022/11/Screen-Shot-2022-11-03-at-7.38.46-PM.png
CATEGORIES:Featured,Shul Events,Youth Programs
END:VEVENT
BEGIN:VTIMEZONE
TZID:America/New_York
X-LIC-LOCATION:America/New_York
BEGIN:STANDARD
DTSTART:20221106T010000
TZOFFSETFROM:-0400
TZOFFSETTO:-0500
TZNAME:EST
END:STANDARD
END:VTIMEZONE
END:VCALENDAR