BEGIN:VCALENDAR
VERSION:2.0
PRODID:-//wp-events-plugin.com//7.2.3.1//EN
TZID:America/New_York
X-WR-TIMEZONE:America/New_York
BEGIN:VEVENT
UID:4186@ahavatachim.org
DTSTART;TZID=America/New_York:20220904T150000
DTEND;TZID=America/New_York:20220904T150000
DTSTAMP:20220721T164016Z
URL:https://www.ahavatachim.org/events/community-baseball-game-and-bbq/
SUMMARY:Community Baseball Game and BBQ
DESCRIPTION:We invite you to join us for a community baseball game on Sunda
 y\, September 4th at 3pm at Edison Park followed by a BBQ at the shul at 5
 pm.&nbsp\;&nbsp\;\nCome to play ball\, cheer on the players\, play games o
 r just enjoy the last BBQ of the summer!&nbsp\;&nbsp\;\n$15 per person/ $3
 6 per family for the BBQ.&nbsp\; RSVP by 8/31!
ATTACH;FMTTYPE=image/jpeg:https://www.ahavatachim.org/wp-content/uploads/2
 022/07/AA-Baseball-BBQ.png
CATEGORIES:Featured,Shul Events
END:VEVENT
BEGIN:VTIMEZONE
TZID:America/New_York
X-LIC-LOCATION:America/New_York
BEGIN:DAYLIGHT
DTSTART:20220313T030000
TZOFFSETFROM:-0500
TZOFFSETTO:-0400
TZNAME:EDT
END:DAYLIGHT
END:VTIMEZONE
END:VCALENDAR