BEGIN:VCALENDAR
VERSION:2.0
PRODID:-//wp-events-plugin.com//7.2.3.1//EN
TZID:America/New_York
X-WR-TIMEZONE:America/New_York
BEGIN:VEVENT
UID:3887@ahavatachim.org
DTSTART;TZID=America/New_York:20210530T084500
DTEND;TZID=America/New_York:20210530T091500
DTSTAMP:20210528T125347Z
URL:https://www.ahavatachim.org/events/covid-era-halacha-2021-05-30/
SUMMARY:COVID era Halacha
DESCRIPTION:The final installment of an exciting series given by Rav Yair L
 ichtman exploring Responsa literature from current leading Poskim to COVID
  Halachic inquiries.&nbsp\; Look behind the curtain to see the halachic pr
 ocess of using precedent in the midst of the "unprecedented".\nIn person f
 ollowing Shacharit - David Schwitzer Social Hall.
ATTACH;FMTTYPE=image/jpeg:https://www.ahavatachim.org/wp-content/uploads/2
 020/11/Covid-minyan-W400x300.jpg
CATEGORIES:Adult Learning Classes
END:VEVENT
BEGIN:VTIMEZONE
TZID:America/New_York
X-LIC-LOCATION:America/New_York
BEGIN:DAYLIGHT
DTSTART:20210314T030000
TZOFFSETFROM:-0500
TZOFFSETTO:-0400
TZNAME:EDT
END:DAYLIGHT
END:VTIMEZONE
END:VCALENDAR