BEGIN:VCALENDAR
VERSION:2.0
PRODID:-//wp-events-plugin.com//7.2.3.1//EN
TZID:America/New_York
X-WR-TIMEZONE:America/New_York
BEGIN:VEVENT
UID:4158@ahavatachim.org
DTSTART;TZID=America/New_York:20220212T185000
DTEND;TZID=America/New_York:20220212T194500
DTSTAMP:20220130T235349Z
URL:https://www.ahavatachim.org/events/design-your-own-football-jersey/
SUMMARY:Design Your Own Football Jersey
DESCRIPTION:Click image to view:\n
ATTACH;FMTTYPE=image/jpeg:https://www.ahavatachim.org/wp-content/uploads/2
 022/01/Screen-Shot-2022-01-30-at-6.52.15-PM.png
CATEGORIES:Featured,Youth Programs
END:VEVENT
BEGIN:VTIMEZONE
TZID:America/New_York
X-LIC-LOCATION:America/New_York
BEGIN:STANDARD
DTSTART:20211107T010000
TZOFFSETFROM:-0400
TZOFFSETTO:-0500
TZNAME:EST
END:STANDARD
END:VTIMEZONE
END:VCALENDAR