BEGIN:VCALENDAR
VERSION:2.0
PRODID:-//wp-events-plugin.com//7.2.3.1//EN
TZID:America/New_York
X-WR-TIMEZONE:America/New_York
BEGIN:VEVENT
UID:4069@ahavatachim.org
DTSTART;TZID=America/New_York:20210829T203000
DTEND;TZID=America/New_York:20210829T203000
DTSTAMP:20210825T210534Z
URL:https://www.ahavatachim.org/events/elul-matters-vs-anxiety/
SUMMARY:'Elul Matters' vs Anxiety
DESCRIPTION:Click on image below\n..
ATTACH;FMTTYPE=image/jpeg:https://www.ahavatachim.org/wp-content/uploads/2
 021/08/Elul-Matters-Flyer.jpg
CATEGORIES:Limited Series,Shul Events
END:VEVENT
BEGIN:VTIMEZONE
TZID:America/New_York
X-LIC-LOCATION:America/New_York
BEGIN:DAYLIGHT
DTSTART:20210314T030000
TZOFFSETFROM:-0500
TZOFFSETTO:-0400
TZNAME:EDT
END:DAYLIGHT
END:VTIMEZONE
END:VCALENDAR