BEGIN:VCALENDAR
VERSION:2.0
PRODID:-//wp-events-plugin.com//7.2.3.1//EN
TZID:America/New_York
X-WR-TIMEZONE:America/New_York
BEGIN:VEVENT
UID:4191@ahavatachim.org
DTSTART;TZID=America/New_York:20220917T204500
DTEND;TZID=America/New_York:20220917T214500
DTSTAMP:20220905T121409Z
URL:https://www.ahavatachim.org/events/elul-matters-womens-shiur/
SUMMARY:Elul Matters Women's Shiur
DESCRIPTION:
ATTACH;FMTTYPE=image/jpeg:https://www.ahavatachim.org/wp-content/uploads/2
 022/09/Elul-Matters-Womens-Melaveh-Malka.jpg
CATEGORIES:Featured,Shul Events
END:VEVENT
BEGIN:VTIMEZONE
TZID:America/New_York
X-LIC-LOCATION:America/New_York
BEGIN:DAYLIGHT
DTSTART:20220313T030000
TZOFFSETFROM:-0500
TZOFFSETTO:-0400
TZNAME:EDT
END:DAYLIGHT
END:VTIMEZONE
END:VCALENDAR