BEGIN:VCALENDAR
VERSION:2.0
PRODID:-//wp-events-plugin.com//7.2.3.1//EN
TZID:America/New_York
X-WR-TIMEZONE:America/New_York
BEGIN:VEVENT
UID:4005@ahavatachim.org
DTSTART;TZID=America/New_York:20210722T190000
DTEND;TZID=America/New_York:20210722T210000
DTSTAMP:20210602T224244Z
URL:https://www.ahavatachim.org/events/fair-lawn-whiskey-tasting/
SUMMARY:Fair Lawn Whiskey Tasting
DESCRIPTION:Click below to view\n\n
ATTACH;FMTTYPE=image/jpeg:https://www.ahavatachim.org/wp-content/uploads/2
 021/05/whiskey-tasting-3.png
CATEGORIES:Featured,Shul Events
END:VEVENT
BEGIN:VTIMEZONE
TZID:America/New_York
X-LIC-LOCATION:America/New_York
BEGIN:DAYLIGHT
DTSTART:20210314T030000
TZOFFSETFROM:-0500
TZOFFSETTO:-0400
TZNAME:EDT
END:DAYLIGHT
END:VTIMEZONE
END:VCALENDAR