BEGIN:VCALENDAR
VERSION:2.0
PRODID:-//wp-events-plugin.com//7.2.3.1//EN
TZID:America/New_York
X-WR-TIMEZONE:America/New_York
BEGIN:VEVENT
UID:4219@ahavatachim.org
DTSTART;TZID=America/New_York:20221105T164500
DTEND;TZID=America/New_York:20221105T184500
DTSTAMP:20221229T030233Z
URL:https://www.ahavatachim.org/events/fall-potluck-stay-play-from-seudat-
 shlesheit-to-havdala/
SUMMARY:Fall Potluck Stay & Play: from Seudat Shlesheit to Havdala
DESCRIPTION:
ATTACH;FMTTYPE=image/jpeg:https://www.ahavatachim.org/wp-content/uploads/2
 022/10/Fall-Stay-Play-pdf.jpg
CATEGORIES:Featured,Youth Programs
END:VEVENT
BEGIN:VTIMEZONE
TZID:America/New_York
X-LIC-LOCATION:America/New_York
BEGIN:DAYLIGHT
DTSTART:20220313T030000
TZOFFSETFROM:-0500
TZOFFSETTO:-0400
TZNAME:EDT
END:DAYLIGHT
END:VTIMEZONE
END:VCALENDAR