BEGIN:VCALENDAR
VERSION:2.0
PRODID:-//wp-events-plugin.com//7.2.3.1//EN
TZID:America/New_York
X-WR-TIMEZONE:America/New_York
BEGIN:VEVENT
UID:4284@ahavatachim.org
DTSTART;TZID=America/New_York:20230107T190000
DTEND;TZID=America/New_York:20230107T210000
DTSTAMP:20230103T021543Z
URL:https://www.ahavatachim.org/events/family-game-night/
SUMMARY:Family Game Night
DESCRIPTION:Due to conflicts\, this event is being postponed until&nbsp\;1/
 7/2023.&nbsp\; Sign up now if you’d like to attend on the new date! &nbs
 p\;\n&nbsp\;\nRSVP by 1/4 here: https://forms.gle/PM5Qm3KmrHo7nrmz5\n&nbsp
 \;\nPS: this is a family friendly kid event!
ATTACH;FMTTYPE=image/jpeg:https://www.ahavatachim.org/wp-content/uploads/2
 022/12/AA-Family-Game-Night.png
CATEGORIES:Featured,Shul Events
END:VEVENT
BEGIN:VTIMEZONE
TZID:America/New_York
X-LIC-LOCATION:America/New_York
BEGIN:STANDARD
DTSTART:20221106T010000
TZOFFSETFROM:-0400
TZOFFSETTO:-0500
TZNAME:EST
END:STANDARD
END:VTIMEZONE
END:VCALENDAR