BEGIN:VCALENDAR
VERSION:2.0
PRODID:-//wp-events-plugin.com//7.2.3.1//EN
TZID:America/New_York
X-WR-TIMEZONE:America/New_York
BEGIN:VEVENT
UID:4796@ahavatachim.org
DTSTART;TZID=America/New_York:20240531T193000
DTEND;TZID=America/New_York:20240531T193000
DTSTAMP:20240530T162444Z
URL:https://www.ahavatachim.org/events/friday-night-dinner-with-rav-yoni-r
 osensweig/
SUMMARY:Friday Night Dinner with Rav Yoni Rosensweig
DESCRIPTION:Event: &nbsp\;Friday Night Shabbat Dinner with Rav Yoni Rosensw
 eig\nDate: 5/31/2024\nRav Yoni is a (if not the) leading voice in the fiel
 d of mental health and halacha. It's a tremendous opportunity to host him 
 and his wife for Shabbat.\nLink to RSVP:&nbsp\;https://forms.gle/zPR7tyisc
 itjdtoz5&nbsp\;
ATTACH;FMTTYPE=image/jpeg:https://www.ahavatachim.org/wp-content/uploads/2
 024/05/AA-Rav-Yoni-Rosensweig-Dinner-1.jpg
CATEGORIES:Featured,Shul Events
END:VEVENT
BEGIN:VTIMEZONE
TZID:America/New_York
X-LIC-LOCATION:America/New_York
BEGIN:DAYLIGHT
DTSTART:20240310T030000
TZOFFSETFROM:-0500
TZOFFSETTO:-0400
TZNAME:EDT
END:DAYLIGHT
END:VTIMEZONE
END:VCALENDAR