BEGIN:VCALENDAR
VERSION:2.0
PRODID:-//wp-events-plugin.com//7.2.3.1//EN
TZID:America/New_York
X-WR-TIMEZONE:America/New_York
BEGIN:VEVENT
UID:4706@ahavatachim.org
DTSTART;TZID=America/New_York:20240202T171500
DTEND;TZID=America/New_York:20240202T171500
DTSTAMP:20240119T024043Z
URL:https://www.ahavatachim.org/events/friday-night-shabbat-zemirot-extrav
 aganza/
SUMMARY:Friday Night Shabbat Zemirot Extravaganza
DESCRIPTION:Link to RSVP:&nbsp\;&nbsp\;https://forms.gle/dNBaESGi8RcR68tL9\
 n\nPair your Friday night dinner with the "sounds of Shabbat" featuring ou
 r Chazzan in Residence\, Binyamin Abramowitz\, on 2/2!
ATTACH;FMTTYPE=image/jpeg:https://www.ahavatachim.org/wp-content/uploads/2
 024/01/AA-Musical-Shabbat-Dinner-2024-pdf.jpg
CATEGORIES:Featured,Shul Events
END:VEVENT
BEGIN:VTIMEZONE
TZID:America/New_York
X-LIC-LOCATION:America/New_York
BEGIN:STANDARD
DTSTART:20231105T010000
TZOFFSETFROM:-0400
TZOFFSETTO:-0500
TZNAME:EST
END:STANDARD
END:VTIMEZONE
END:VCALENDAR