BEGIN:VCALENDAR
VERSION:2.0
PRODID:-//wp-events-plugin.com//7.2.3.1//EN
TZID:America/New_York
X-WR-TIMEZONE:America/New_York
BEGIN:VEVENT
UID:4388@ahavatachim.org
DTSTART;TZID=America/New_York:20200808T050000
DTEND;TZID=America/New_York:20200808T060000
DTSTAMP:20230104T005329Z
URL:https://www.ahavatachim.org/events/fundamentals-on-the-lawn-2020-08-08
 /
SUMMARY:Fundamentals on the Lawn
DESCRIPTION:
ATTACH;FMTTYPE=image/jpeg:https://www.ahavatachim.org/wp-content/uploads/2
 023/01/Fundamentals-on-the-Lawn-2020-Week-2.jpg
CATEGORIES:Adult Learning Classes
END:VEVENT
BEGIN:VTIMEZONE
TZID:America/New_York
X-LIC-LOCATION:America/New_York
BEGIN:DAYLIGHT
DTSTART:20200308T030000
TZOFFSETFROM:-0500
TZOFFSETTO:-0400
TZNAME:EDT
END:DAYLIGHT
END:VTIMEZONE
END:VCALENDAR