BEGIN:VCALENDAR
VERSION:2.0
PRODID:-//wp-events-plugin.com//7.2.3.1//EN
TZID:America/New_York
X-WR-TIMEZONE:America/New_York
BEGIN:VEVENT
UID:3755@ahavatachim.org
DTSTART;TZID=America/New_York:20210215T090000
DTEND;TZID=America/New_York:20210215T090000
DTSTAMP:20210108T151514Z
URL:https://www.ahavatachim.org/events/hamavdil-bein-church-lstate-separat
 ion-of-powers-and-the-constitution/
SUMMARY:Hamavdil Bein Church L'State: Separation of Powers and The Constitu
 tion
DESCRIPTION:An Americana Series: Exploring “One Nation Under God": Throug
 h the Lens of Judaism.\n\nHamavdil Bein Church L'State: Separation of Powe
 rs and The Constitution -&nbsp\; presented by Rav Yair Lichtman\n\nhttps:/
 /zoom.us/j/7291311899\n&nbsp\;&nbsp\; Password: 112233
ATTACH;FMTTYPE=image/jpeg:https://www.ahavatachim.org/wp-content/uploads/2
 020/11/AA-Americana-series-PD.jpg
CATEGORIES:Featured,Limited Series,Shul Events
END:VEVENT
BEGIN:VTIMEZONE
TZID:America/New_York
X-LIC-LOCATION:America/New_York
BEGIN:STANDARD
DTSTART:20201101T010000
TZOFFSETFROM:-0400
TZOFFSETTO:-0500
TZNAME:EST
END:STANDARD
END:VTIMEZONE
END:VCALENDAR