BEGIN:VCALENDAR
VERSION:2.0
PRODID:-//wp-events-plugin.com//7.2.3.1//EN
TZID:America/New_York
X-WR-TIMEZONE:America/New_York
BEGIN:VEVENT
UID:3565@ahavatachim.org
DTSTART;TZID=America/New_York:20200808T081500
DTEND;TZID=America/New_York:20200808T101000
DTSTAMP:20201023T145240Z
URL:https://www.ahavatachim.org/events/hashkama-minyan-2-2020-08-08/
SUMMARY:Hashkama Minyan
DESCRIPTION:Hashkama Minyan
END:VEVENT
BEGIN:VTIMEZONE
TZID:America/New_York
X-LIC-LOCATION:America/New_York
BEGIN:DAYLIGHT
DTSTART:20200308T030000
TZOFFSETFROM:-0500
TZOFFSETTO:-0400
TZNAME:EDT
END:DAYLIGHT
END:VTIMEZONE
END:VCALENDAR