BEGIN:VCALENDAR
VERSION:2.0
PRODID:-//wp-events-plugin.com//7.2.3.1//EN
TZID:America/New_York
X-WR-TIMEZONE:America/New_York
BEGIN:VEVENT
UID:3579@ahavatachim.org
DTSTART;TZID=America/New_York:20201205T180000
DTEND;TZID=America/New_York:20201205T184500
DTSTAMP:20201207T231618Z
URL:https://www.ahavatachim.org/events/havdalah-in-pajamas-chanukah-editio
 n/
SUMMARY:Havdalah In Pajamas- Chanukah Edition
DESCRIPTION:[ngg src="galleries" ids="5" display="basic_thumbnail" thumbnai
 l_crop="0"]\nAs we prepare for Chanukah\, children ages 3-11 are invited t
 o join in on a Havdalah in Pajamas&nbsp\;Chanukah Craft event on December 
 5th at 6:00 PM on Zoom.&nbsp\;\nSara Yehaskel will guide us in creating a 
 special&nbsp\;project to help get us all excited for Chanukah!!!\nPlease s
 ee the attached flyer with more&nbsp\;details\, including a supply list.&n
 bsp\;\nRSVP to&nbsp\;kira.batist.msw@gmail.com&nbsp\;by November 29th to g
 et the Zoom link.&nbsp\;\n\n&nbsp\;\n&nbsp\;
ATTACH;FMTTYPE=image/jpeg:https://www.ahavatachim.org/wp-content/uploads/2
 020/11/ChanukahCraft2.jpg
CATEGORIES:Featured,Youth Programs
END:VEVENT
BEGIN:VTIMEZONE
TZID:America/New_York
X-LIC-LOCATION:America/New_York
BEGIN:STANDARD
DTSTART:20201101T010000
TZOFFSETFROM:-0400
TZOFFSETTO:-0500
TZNAME:EST
END:STANDARD
END:VTIMEZONE
END:VCALENDAR