BEGIN:VCALENDAR
VERSION:2.0
PRODID:-//wp-events-plugin.com//7.2.3.1//EN
TZID:America/New_York
X-WR-TIMEZONE:America/New_York
BEGIN:VEVENT
UID:4676@ahavatachim.org
DTSTART;TZID=America/New_York:20230904T000000
DTEND;TZID=America/New_York:20230904T000000
DTSTAMP:20230817T201632Z
URL:https://www.ahavatachim.org/events/high-holiday-child-care/
SUMMARY:High Holiday Child Care Sign-Up
DESCRIPTION:Sign up by 9/4/23 using this link: https://forms.gle/AyM7nYi4XT
 r9FYdK9\n\nE-mail youth@ahavatachim.org with any questions
ATTACH;FMTTYPE=image/jpeg:https://www.ahavatachim.org/wp-content/uploads/2
 023/08/HighHolidayChildcare2023-1-pdf.jpg
CATEGORIES:Featured,Youth Programs
END:VEVENT
BEGIN:VTIMEZONE
TZID:America/New_York
X-LIC-LOCATION:America/New_York
BEGIN:DAYLIGHT
DTSTART:20230312T030000
TZOFFSETFROM:-0500
TZOFFSETTO:-0400
TZNAME:EDT
END:DAYLIGHT
END:VTIMEZONE
END:VCALENDAR