BEGIN:VCALENDAR
VERSION:2.0
PRODID:-//wp-events-plugin.com//7.2.3.1//EN
TZID:America/New_York
X-WR-TIMEZONE:America/New_York
BEGIN:VEVENT
UID:3754@ahavatachim.org
DTSTART;TZID=America/New_York:20210117T193000
DTEND;TZID=America/New_York:20210117T193000
DTSTAMP:20210115T030523Z
URL:https://www.ahavatachim.org/events/inalienable-why-we-should-care-abou
 t-systemic-racism-and-how-we-should-show-that-we-care/
SUMMARY:Inalienable: Why We Should Care About Systemic Racism and How We Sh
 ould Show That We Care.
DESCRIPTION:An Americana Series: Exploring “One Nation Under God": Throug
 h the Lens of Judaism.\n\nInalienable: Why We Should Care About Systemic R
 acism and How We Should Show That We Care - a conversation on race present
 ed by Rabbi Ely Shestack\n\nhttps://zoom.us/j/7291311899\n&nbsp\;&nbsp\; P
 assword: 112233
ATTACH;FMTTYPE=image/jpeg:https://www.ahavatachim.org/wp-content/uploads/2
 020/11/AA-Americana-series-MLK-pdf.jpg
CATEGORIES:Featured,Limited Series,Shul Events
END:VEVENT
BEGIN:VTIMEZONE
TZID:America/New_York
X-LIC-LOCATION:America/New_York
BEGIN:STANDARD
DTSTART:20201101T010000
TZOFFSETFROM:-0400
TZOFFSETTO:-0500
TZNAME:EST
END:STANDARD
END:VTIMEZONE
END:VCALENDAR