BEGIN:VCALENDAR
VERSION:2.0
PRODID:-//wp-events-plugin.com//7.2.3.1//EN
TZID:America/New_York
X-WR-TIMEZONE:America/New_York
BEGIN:VEVENT
UID:4138@ahavatachim.org
DTSTART;TZID=America/New_York:20211211T151500
DTEND;TZID=America/New_York:20211211T160000
DTSTAMP:20211123T142950Z
URL:https://www.ahavatachim.org/events/iyun-chabura-10/
SUMMARY:IYUN Chabura
DESCRIPTION:Join us for an in depth b'Iyun shiur of Mesechta Kiddushin\, we
 ekly on selected Tuesday's and every third Shabbat.&nbsp\; See Happenings 
 Calendar of schedule of classes.
ATTACH;FMTTYPE=image/jpeg:https://www.ahavatachim.org/wp-content/uploads/2
 021/10/PHOTO-2021-10-08-15-06-12.jpg
CATEGORIES:Adult Learning Classes,Featured
END:VEVENT
BEGIN:VTIMEZONE
TZID:America/New_York
X-LIC-LOCATION:America/New_York
BEGIN:STANDARD
DTSTART:20211107T010000
TZOFFSETFROM:-0400
TZOFFSETTO:-0500
TZNAME:EST
END:STANDARD
END:VTIMEZONE
END:VCALENDAR