BEGIN:VCALENDAR
VERSION:2.0
PRODID:-//wp-events-plugin.com//7.2.3.1//EN
TZID:America/New_York
X-WR-TIMEZONE:America/New_York
BEGIN:VEVENT
UID:4079@ahavatachim.org
DTSTART;TZID=America/New_York:20211026T200000
DTEND;TZID=America/New_York:20211026T210000
DTSTAMP:20211014T184357Z
URL:https://www.ahavatachim.org/events/iyun-chabura-2/
SUMMARY:IYUN Chabura
DESCRIPTION:Click to Join on Zoom.&nbsp\;\nPassword:&nbsp\; 112233\n\nJoin 
 us for an in depth b'Iyun shiur of Mesechta Kiddushin\, weekly on selected
  Tuesday's and every third Shabbat.&nbsp\; See Happenings Calendar of sche
 dule of classes.\n\nZoom meeting id:&nbsp\; 7291311899\nPassword:&nbsp\; 1
 12233
ATTACH;FMTTYPE=image/jpeg:https://www.ahavatachim.org/wp-content/uploads/2
 021/10/PHOTO-2021-10-08-15-06-12.jpg
CATEGORIES:Adult Learning Classes
END:VEVENT
BEGIN:VTIMEZONE
TZID:America/New_York
X-LIC-LOCATION:America/New_York
BEGIN:DAYLIGHT
DTSTART:20210314T030000
TZOFFSETFROM:-0500
TZOFFSETTO:-0400
TZNAME:EDT
END:DAYLIGHT
END:VTIMEZONE
END:VCALENDAR