BEGIN:VCALENDAR
VERSION:2.0
PRODID:-//wp-events-plugin.com//7.2.3.1//EN
TZID:America/New_York
X-WR-TIMEZONE:America/New_York
BEGIN:VEVENT
UID:4644@ahavatachim.org
DTSTART;TZID=America/New_York:20230618T180000
DTEND;TZID=America/New_York:20230618T180000
DTSTAMP:20230504T212358Z
URL:https://www.ahavatachim.org/events/journal-ad-dinner/
SUMMARY:Journal Ad Dinner
DESCRIPTION:You will receive your Ahavat achim&nbsp\;Journal&nbsp\;Dinner I
 nvitation over the next few weeks.\n&nbsp\;\nFor now\, please submit (or s
 olicit) your ads showing&nbsp\;gratitude to Lori and David Garfunkel for a
 ll that they have done\, and continue to do\, for our shul.\n&nbsp\;\nPlea
 se use the attached ad blank\, or the online form\,&nbsp\; which you can a
 ccess by&nbsp\;clicking here..\n\n\n&nbsp\;\n\nWithin the ad form\, you ca
 n also honor our Rabbi\, honor your children&nbsp\; or grandchildren\, mem
 orialize a loved one and also submit a memory\, or a message\, to memorial
 ize one of our founders who passed this year\, Dr. Richard Latkin.\n
ATTACH;FMTTYPE=image/jpeg:https://www.ahavatachim.org/wp-content/uploads/2
 023/05/Untitled-document-1-pdf.jpg
CATEGORIES:Featured,Shul Events
END:VEVENT
BEGIN:VTIMEZONE
TZID:America/New_York
X-LIC-LOCATION:America/New_York
BEGIN:DAYLIGHT
DTSTART:20230312T030000
TZOFFSETFROM:-0500
TZOFFSETTO:-0400
TZNAME:EDT
END:DAYLIGHT
END:VTIMEZONE
END:VCALENDAR