BEGIN:VCALENDAR
VERSION:2.0
PRODID:-//wp-events-plugin.com//7.2.3.1//EN
TZID:America/New_York
X-WR-TIMEZONE:America/New_York
BEGIN:VEVENT
UID:3978@ahavatachim.org
DTSTART;TZID=America/New_York:20210620T103000
DTEND;TZID=America/New_York:20210620T103000
DTSTAMP:20210530T023638Z
URL:https://www.ahavatachim.org/events/journal-dinner/
SUMMARY:Annual Journal Dinner
DESCRIPTION:Honoring Mary Lisa &amp\; Ken Katter\n2021 Journal Ad Form - on
 line\n\n2021 Journal Ad Form- to print\n\n[pdf-embedder url="https://www.a
 havatachim.org/wp-content/uploads/2021/05/2021-Journal-Ad.pdf"]
ATTACH;FMTTYPE=image/jpeg:https://www.ahavatachim.org/wp-content/uploads/2
 021/05/AA-Journal-Event.png
CATEGORIES:Featured,Shul Events
END:VEVENT
BEGIN:VTIMEZONE
TZID:America/New_York
X-LIC-LOCATION:America/New_York
BEGIN:DAYLIGHT
DTSTART:20210314T030000
TZOFFSETFROM:-0500
TZOFFSETTO:-0400
TZNAME:EDT
END:DAYLIGHT
END:VTIMEZONE
END:VCALENDAR