BEGIN:VCALENDAR
VERSION:2.0
PRODID:-//wp-events-plugin.com//7.2.3.1//EN
TZID:America/New_York
X-WR-TIMEZONE:America/New_York
BEGIN:VEVENT
UID:4797@ahavatachim.org
DTSTART;TZID=America/New_York:20240704T100000
DTEND;TZID=America/New_York:20240704T100000
DTSTAMP:20240607T190216Z
URL:https://www.ahavatachim.org/events/july-4th-community-baseball-game/
SUMMARY:July 4th Community Baseball Game
DESCRIPTION:Play ball with Ahavat Achim on July 4\, 2024! All adults are we
 lcome and encouraged to play. RSVP by 6/30!\n\nRSVP: events@ahavatachim.or
 g
ATTACH;FMTTYPE=image/jpeg:https://www.ahavatachim.org/wp-content/uploads/2
 024/06/AA-Baseball-7.4.2024.jpg
CATEGORIES:Featured,Shul Events
END:VEVENT
BEGIN:VTIMEZONE
TZID:America/New_York
X-LIC-LOCATION:America/New_York
BEGIN:DAYLIGHT
DTSTART:20240310T030000
TZOFFSETFROM:-0500
TZOFFSETTO:-0400
TZNAME:EDT
END:DAYLIGHT
END:VTIMEZONE
END:VCALENDAR