BEGIN:VCALENDAR
VERSION:2.0
PRODID:-//wp-events-plugin.com//7.2.3.1//EN
TZID:America/New_York
X-WR-TIMEZONE:America/New_York
BEGIN:VEVENT
UID:4675@ahavatachim.org
DTSTART;TZID=America/New_York:20230903T150000
DTEND;TZID=America/New_York:20230903T150000
DTSTAMP:20230817T130216Z
URL:https://www.ahavatachim.org/events/labor-day-baseball-game-bbq/
SUMMARY:Labor Day Baseball Game & BBQ
DESCRIPTION:Join us for the Family Shul’s annual Labor Day Baseball Game 
 and BBQ on 9/3.&nbsp\; The first pitch will be thrown at Edison field at 3
 pm and we will meet back at shul for a celebratory BBQ afterwards!&nbsp\; 
 \nEmail&nbsp\;events@ahavatavhim.com for questions. Sign up to play and fo
 r the BBQ: https://docs.google.com/forms/d/e/1FAIpQLSevsaLfH3KxtneK7VaREjS
 HacdvLsWrqrWR_E0Gk0iaBLi5JA/viewform\n&nbsp\;\n&nbsp\;
ATTACH;FMTTYPE=image/jpeg:https://www.ahavatachim.org/wp-content/uploads/2
 023/08/AA-Baseball-BBQ-rev-pdf.jpg
CATEGORIES:Featured,Shul Events
END:VEVENT
BEGIN:VTIMEZONE
TZID:America/New_York
X-LIC-LOCATION:America/New_York
BEGIN:DAYLIGHT
DTSTART:20230312T030000
TZOFFSETFROM:-0500
TZOFFSETTO:-0400
TZNAME:EDT
END:DAYLIGHT
END:VTIMEZONE
END:VCALENDAR