BEGIN:VCALENDAR
VERSION:2.0
PRODID:-//wp-events-plugin.com//7.2.3.1//EN
TZID:America/New_York
X-WR-TIMEZONE:America/New_York
BEGIN:VEVENT
UID:3948@ahavatachim.org
DTSTART;TZID=America/New_York:20210502T143000
DTEND;TZID=America/New_York:20210502T153000
DTSTAMP:20210412T020027Z
URL:https://www.ahavatachim.org/events/lag-baomer-field-day/
SUMMARY:Lag BaOmer Field Day
DESCRIPTION:Save the date for an exciting Lag BaOmer Field Day on Sunday\, 
 May 2nd at 2:30 PM! Rain date&nbsp\;is 5/30.\n&nbsp\;\nPlease register by 
 using this link:&nbsp\;https://forms.gle/kr2VwUNjJvqoj5Zh8\n&nbsp\;\nThe d
 ay will feature a&nbsp\;teens versus adults softball game and relay races&
 nbsp\;for the younger children! Not up for softball or races? Join in the 
 stands to cheer your team on! All are welcome.&nbsp\;\n&nbsp\;\nExact loca
 tion details are coming soon!
ATTACH;FMTTYPE=image/jpeg:https://www.ahavatachim.org/wp-content/uploads/2
 021/04/LagBaOmerFieldDay.jpeg
CATEGORIES:Featured,Youth Programs
END:VEVENT
BEGIN:VTIMEZONE
TZID:America/New_York
X-LIC-LOCATION:America/New_York
BEGIN:DAYLIGHT
DTSTART:20210314T030000
TZOFFSETFROM:-0500
TZOFFSETTO:-0400
TZNAME:EDT
END:DAYLIGHT
END:VTIMEZONE
END:VCALENDAR